BEGIN:VCALENDAR
VERSION:2.0
PRODID:-//iStudent - ECPv4.6.26.1//NONSGML v1.0//EN
CALSCALE:GREGORIAN
METHOD:PUBLISH
X-WR-CALNAME:iStudent
X-ORIGINAL-URL:http://istudent.fr
X-WR-CALDESC:Évènements pour iStudent
BEGIN:VEVENT
DTSTART;TZID=UTC+1:20171207T233000
DTEND;TZID=UTC+1:20171208T233000
DTSTAMP:20260422T193759
CREATED:20171120T145118Z
LAST-MODIFIED:20171209T104528Z
UID:1310-1512689400-1512775800@istudent.fr
SUMMARY:Winter Lights
DESCRIPTION:Quoi de mieux après l’inauguration de la Fête des Lumières 2017 qu’une soirée dans le même esprit éclairé ? Montre ta lueur à tout le monde et illumine le dancefloor avec tes moves les plus éclatants. 🌟 \n💎 Il y aura un stand de maquillage fluo pour te faire briller encore plus ! \nTarifs\n\nPrévente anticipée : 5€ *\nTarif normal: 10€ *\nSur place : 12€ *\n\n* chaque entrée inclut une conso gratuite \n\n\n	Articles similaires\n
URL:http://istudent.fr/event/winter_lights/
LOCATION:Loft Club\, 7 rue Renan\, Lyon\, 69007\, France
CATEGORIES:Erasmus Party
ATTACH;FMTTYPE=image/jpeg:http://istudent.fr/wp-content/uploads/2017/11/winter_lights.jpg
END:VEVENT
END:VCALENDAR