BEGIN:VCALENDAR
VERSION:2.0
PRODID:-//iStudent - ECPv4.6.26.1//NONSGML v1.0//EN
CALSCALE:GREGORIAN
METHOD:PUBLISH
X-WR-CALNAME:iStudent
X-ORIGINAL-URL:http://istudent.fr
X-WR-CALDESC:Évènements pour iStudent
BEGIN:VEVENT
DTSTART;TZID=UTC+1:20171114T190000
DTEND;TZID=UTC+1:20171115T190000
DTSTAMP:20260422T160049
CREATED:20171028T141213Z
LAST-MODIFIED:20171102T152202Z
UID:1220-1510686000-1510772400@istudent.fr
SUMMARY:Apéro Langues #3
DESCRIPTION:\n\nÊtes-vous prêts pour une nouvelle expérience linguistique et culturelle ? \n  \n\nCette fois-ci l’équipe iStudent s’est dépassée et vous a préparé un Apérolangue unique :\n\nun début de soirée au bar de l’AwayHostel\nà 22h00\, on descend quelques marches et…hop\, nous continuons notre soirée au bar à cocktails / club Groom. Préparez-vous à une soirée explosive !\n\n\n\n \n\n\nVous voulez parler Français? Do you want to speak English? Wollen Sie Deutsch sprechen? Quereis hablar Español? Volete parlare Italiano? Você fala Português? Spreekt u Nederlands? Oletteko tarkoittaa suomeksi? Snakker du norsk? Ønsker du at tale dansk? Talar du Svenska? Chcesz mówić po polsku? вы хотите говорить по русски? Vreți să vorbiți românește? Türkçe konuşmalı istiyor musunuz ? Μιλάτε ελληνικά; Úgy érted\, a magyar? Hovoríte slovenské? Mluvíte česky? あなたが日本語を話すか？你會說中文嗎？هل تتكلم العربية؟\n\n\n\n\n	Articles similaires\n
URL:http://istudent.fr/event/apero-langues-3-2/
LOCATION:Away Hostel & Coffee Shop\, 21 Rue Alsace Lorraine\, Lyon\, 69001\, France
CATEGORIES:Apéros
ATTACH;FMTTYPE=image/png:http://istudent.fr/wp-content/uploads/2017/10/apero_langues.png
END:VEVENT
END:VCALENDAR